BEGIN:VCALENDAR
VERSION:2.0
PRODID:-//Flexi Digital Marketing - ECPv6.15.20//NONSGML v1.0//EN
CALSCALE:GREGORIAN
METHOD:PUBLISH
X-WR-CALNAME:Flexi Digital Marketing
X-ORIGINAL-URL:https://flexidigitalmarketing.com.au
X-WR-CALDESC:Events for Flexi Digital Marketing
REFRESH-INTERVAL;VALUE=DURATION:PT1H
X-Robots-Tag:noindex
X-PUBLISHED-TTL:PT1H
BEGIN:VTIMEZONE
TZID:Asia/Shanghai
BEGIN:STANDARD
TZOFFSETFROM:+0800
TZOFFSETTO:+0800
TZNAME:CST
DTSTART:20220101T000000
END:STANDARD
END:VTIMEZONE
BEGIN:VEVENT
DTSTART;TZID=Asia/Shanghai:20230706T130000
DTEND;TZID=Asia/Shanghai:20230706T170000
DTSTAMP:20260422T223304
CREATED:20230607T235805Z
LAST-MODIFIED:20250319T002248Z
UID:11819-1688648400-1688662800@flexidigitalmarketing.com.au
SUMMARY:Expand Your Customer Base with Digital Marketing Best Practices
DESCRIPTION:Calling all small business owners and digital marketers!				\n				\n							\n						\n				\n									Unlock the secrets to skyrocketing your customer base with our exclusive event: Digital Marketing Mastery: Increasing Your Customer Base Through Digital Marketing Best Practices. Join us for an exhilarating day of knowledge-sharing and discovery as we delve into the most powerful strategies to propel your business to new heights. 								\n				\n				\n				\n							\n			\n						\n		\n						\n				\n				\n				\n					WHAT TO EXPECT IN THIS EVENTS: 				\n				\n				\n				\n									We will talk about: 								\n				\n				\n						\n					\n			\n						\n				\n																														\n				\n				\n				\n					Bernard L. Quibina Jr. 				\n				\n				\n				\n					Managing Director at FlexiDigital Marketing 				\n				\n					\n		\n				\n			\n						\n				\n							\n							\n											\n													\n										PPC Advertising: A Practical Guide to Boosting Brand Awareness and Generating Quality Leads\n									\n								\n											\n													\n										 Landing Page Optimization: How to Turn Ad Clicks Into Leads\n									\n								\n											\n													\n										Best Practices in Generating More Leads Through Organic Listings\n									\n						\n						\n				\n					\n		\n					\n		\n				\n				\n							\n			\n						\n		\n						\n				\n				\n				\n									Learn from industry experts and gain actionable insights that will transform the way you approach digital marketing. Network with fellow entrepreneurs\, exchange ideas\, and leave equipped with the tools and techniques to take your business to the next level. Spaces are limited\, so secure your spot today! Don’t miss out on this incredible opportunity to revolutionize your marketing strategy. Let’s drive your business forward together! 								\n				\n				\n				\n					LIMITED SLOTS ONLY! REGISTER NOW!
URL:https://flexidigitalmarketing.com.au/event/expand-your-customer-base-with-digital-marketing-best-practices/
LOCATION:Meet Up Event\, Unit C 26th Floor\, 105 HV Dela Costa\, Salcedo Vill. Makati City
ATTACH;FMTTYPE=image/jpeg:https://flexidigitalmarketing.com.au/wp-content/uploads/2023/06/1920_x_1080-1-jpg.webp
END:VEVENT
END:VCALENDAR